BEGIN:VCALENDAR
VERSION:2.0
PRODID:-//Die Weinbergritter - ECPv6.15.20//NONSGML v1.0//EN
CALSCALE:GREGORIAN
METHOD:PUBLISH
X-WR-CALNAME:Die Weinbergritter
X-ORIGINAL-URL:https://www.weinbergritter.synology.me
X-WR-CALDESC:Veranstaltungen für Die Weinbergritter
REFRESH-INTERVAL;VALUE=DURATION:PT1H
X-Robots-Tag:noindex
X-PUBLISHED-TTL:PT1H
BEGIN:VTIMEZONE
TZID:Europe/Paris
BEGIN:DAYLIGHT
TZOFFSETFROM:+0100
TZOFFSETTO:+0200
TZNAME:CEST
DTSTART:20250330T010000
END:DAYLIGHT
BEGIN:STANDARD
TZOFFSETFROM:+0200
TZOFFSETTO:+0100
TZNAME:CET
DTSTART:20251026T010000
END:STANDARD
BEGIN:DAYLIGHT
TZOFFSETFROM:+0100
TZOFFSETTO:+0200
TZNAME:CEST
DTSTART:20260329T010000
END:DAYLIGHT
BEGIN:STANDARD
TZOFFSETFROM:+0200
TZOFFSETTO:+0100
TZNAME:CET
DTSTART:20261025T010000
END:STANDARD
BEGIN:DAYLIGHT
TZOFFSETFROM:+0100
TZOFFSETTO:+0200
TZNAME:CEST
DTSTART:20270328T010000
END:DAYLIGHT
BEGIN:STANDARD
TZOFFSETFROM:+0200
TZOFFSETTO:+0100
TZNAME:CET
DTSTART:20271031T010000
END:STANDARD
END:VTIMEZONE
BEGIN:VEVENT
DTSTART;VALUE=DATE:20260605
DTEND;VALUE=DATE:20260609
DTSTAMP:20260421T132736
CREATED:20251230T211557Z
LAST-MODIFIED:20260106T203158Z
UID:1399-1780628400-1780887599@www.weinbergritter.synology.me
SUMMARY:Mystika
DESCRIPTION:
URL:https://www.weinbergritter.synology.me/veranstaltung/mystika/
CATEGORIES:Markt
ATTACH;FMTTYPE=image/jpeg:https://www.weinbergritter.synology.me/wp-content/uploads/2026/01/signal-2026-01-04-130851_007.jpeg
END:VEVENT
BEGIN:VEVENT
DTSTART;VALUE=DATE:20260627
DTEND;VALUE=DATE:20260630
DTSTAMP:20260421T132736
CREATED:20260106T120510Z
LAST-MODIFIED:20260106T203313Z
UID:1514-1782529200-1782701999@www.weinbergritter.synology.me
SUMMARY:Oppenheimer Mittelaltermarkt
DESCRIPTION:
URL:https://www.weinbergritter.synology.me/veranstaltung/oppenheimer-mittelaltermarkt/
LOCATION:Oppenheim\, Dalbergerstr. 49\, Oppenheim\, 55276 \, Germany
CATEGORIES:Markt
ATTACH;FMTTYPE=image/jpeg:https://www.weinbergritter.synology.me/wp-content/uploads/2026/01/signal-2026-01-04-130851_005.jpeg
END:VEVENT
BEGIN:VEVENT
DTSTART;VALUE=DATE:20260724
DTEND;VALUE=DATE:20260728
DTSTAMP:20260421T132736
CREATED:20251230T170459Z
LAST-MODIFIED:20260106T203100Z
UID:1355-1784865600-1785124799@www.weinbergritter.synology.me
SUMMARY:Gregorian Markt Schöneberg
DESCRIPTION:
URL:https://www.weinbergritter.synology.me/veranstaltung/gregorian-markt-schoneberg/
LOCATION:Schöneberg\, Bergstraße 3\, Schöneberg\, 55444\, Germany
CATEGORIES:Markt
ATTACH;FMTTYPE=image/jpeg:https://www.weinbergritter.synology.me/wp-content/uploads/2026/01/signal-2026-01-04-130851_004.jpeg
END:VEVENT
BEGIN:VEVENT
DTSTART;VALUE=DATE:20260905
DTEND;VALUE=DATE:20260908
DTSTAMP:20260421T132736
CREATED:20251230T185430Z
LAST-MODIFIED:20260106T195437Z
UID:1386-1788580800-1788753599@www.weinbergritter.synology.me
SUMMARY:Disibod Markt Staudernheim
DESCRIPTION:
URL:https://www.weinbergritter.synology.me/veranstaltung/disibod-markt-staudernheim/
LOCATION:Staudernheim\, Staudernheim\, 55568
CATEGORIES:Markt
ATTACH;FMTTYPE=image/jpeg:https://www.weinbergritter.synology.me/wp-content/uploads/2026/01/signal-2026-01-04-130851_006.jpeg
END:VEVENT
END:VCALENDAR